BEGIN:VCALENDAR
VERSION:2.0
PRODID:-//Bajo el tejo - ECPv6.15.9//NONSGML v1.0//EN
CALSCALE:GREGORIAN
METHOD:PUBLISH
X-WR-CALNAME:Bajo el tejo
X-ORIGINAL-URL:http://bajoeltejo.net
X-WR-CALDESC:Eventos para Bajo el tejo
REFRESH-INTERVAL;VALUE=DURATION:PT1H
X-Robots-Tag:noindex
X-PUBLISHED-TTL:PT1H
BEGIN:VTIMEZONE
TZID:Europe/Madrid
BEGIN:DAYLIGHT
TZOFFSETFROM:+0100
TZOFFSETTO:+0200
TZNAME:CEST
DTSTART:20230326T010000
END:DAYLIGHT
BEGIN:STANDARD
TZOFFSETFROM:+0200
TZOFFSETTO:+0100
TZNAME:CET
DTSTART:20231029T010000
END:STANDARD
BEGIN:DAYLIGHT
TZOFFSETFROM:+0100
TZOFFSETTO:+0200
TZNAME:CEST
DTSTART:20240331T010000
END:DAYLIGHT
BEGIN:STANDARD
TZOFFSETFROM:+0200
TZOFFSETTO:+0100
TZNAME:CET
DTSTART:20241027T010000
END:STANDARD
BEGIN:DAYLIGHT
TZOFFSETFROM:+0100
TZOFFSETTO:+0200
TZNAME:CEST
DTSTART:20250330T010000
END:DAYLIGHT
BEGIN:STANDARD
TZOFFSETFROM:+0200
TZOFFSETTO:+0100
TZNAME:CET
DTSTART:20251026T010000
END:STANDARD
END:VTIMEZONE
BEGIN:VEVENT
DTSTART;TZID=Europe/Madrid:20241008T160000
DTEND;TZID=Europe/Madrid:20241010T210000
DTSTAMP:20260421T073611
CREATED:20241001T140643Z
LAST-MODIFIED:20241001T144731Z
UID:17141-1728403200-1728594000@bajoeltejo.net
SUMMARY:Exposición fotográfica “Gente que vibra” del fotógrafo de cine Quim Vives.
DESCRIPTION:InteRed Cantabria presenta la exposición fotográfica “Gente que vibra” del fotógrafo de cine Quim Vives\, que ha viajado recientemente a Mauritania con InteRed y ha plasmado la unión de estos valores en los proyectos que allí se desarrollan.\n\n\n¿Alguna vez te has preguntado qué salvó a los sobrevivientes del avión 571 de la Fuerza Aérea Uruguaya que se estrelló en la cordillera de los Andes en 1972? Sin duda diversas circunstancias\, pero las más importantes: la encarnación de valores como el respeto\, el trabajo en equipo\, los cuidados\, la generosidad y la solidaridad. Se creó una “Sociedad de la nieve” que comparte con InteRed numerosos valores.\n\n\n\n\n\n\n#InteRed #lasociedaddelanieve #educacióntransformadora #LosValoresQueNosUnen
URL:http://bajoeltejo.net/evento/exposicion-fotografica-gente-que-vibra-del-fotografo-de-cine-quim-vives/
LOCATION:«Espacio en blanco» C/ Cta. del Hospital\, 5 Santander
CATEGORIES:Cooperación
ATTACH;FMTTYPE=image/jpeg:http://bajoeltejo.net/wp-content/uploads/2024/10/cartel-exposicion-fotografica.jpg
END:VEVENT
END:VCALENDAR