BEGIN:VCALENDAR
VERSION:2.0
PRODID:-//Bajo el tejo - ECPv6.15.9//NONSGML v1.0//EN
CALSCALE:GREGORIAN
METHOD:PUBLISH
X-ORIGINAL-URL:https://bajoeltejo.net
X-WR-CALDESC:Eventos para Bajo el tejo
REFRESH-INTERVAL;VALUE=DURATION:PT1H
X-Robots-Tag:noindex
X-PUBLISHED-TTL:PT1H
BEGIN:VTIMEZONE
TZID:Europe/Madrid
BEGIN:DAYLIGHT
TZOFFSETFROM:+0100
TZOFFSETTO:+0200
TZNAME:CEST
DTSTART:20210328T010000
END:DAYLIGHT
BEGIN:STANDARD
TZOFFSETFROM:+0200
TZOFFSETTO:+0100
TZNAME:CET
DTSTART:20211031T010000
END:STANDARD
BEGIN:DAYLIGHT
TZOFFSETFROM:+0100
TZOFFSETTO:+0200
TZNAME:CEST
DTSTART:20220327T010000
END:DAYLIGHT
BEGIN:STANDARD
TZOFFSETFROM:+0200
TZOFFSETTO:+0100
TZNAME:CET
DTSTART:20221030T010000
END:STANDARD
BEGIN:DAYLIGHT
TZOFFSETFROM:+0100
TZOFFSETTO:+0200
TZNAME:CEST
DTSTART:20230326T010000
END:DAYLIGHT
BEGIN:STANDARD
TZOFFSETFROM:+0200
TZOFFSETTO:+0100
TZNAME:CET
DTSTART:20231029T010000
END:STANDARD
END:VTIMEZONE
BEGIN:VEVENT
DTSTART;VALUE=DATE:20220930
DTEND;VALUE=DATE:20221005
DTSTAMP:20260421T202922
CREATED:20220713T120751Z
LAST-MODIFIED:20220803T155605Z
UID:3876-1664496000-1664927999@bajoeltejo.net
SUMMARY:Movilidad de trabajadores juveniles "Promote Rural Heritage by Youth Workers"
DESCRIPTION:Traemos nuevas oportunidades de movilidad para la vuelta del verano! ¿Estás interesado en comprender mejor el patrimonio #rural y #cultural? ¿Te gustaría conocer en qué consiste la #arqueología experimental y aprender nuevos métodos atractivos para divulgar la #historia y el #patrimonio? ¿Quieres participar en un proyecto internacional\, compartiendo tus saberes y experiencias con jóvenes de #Rumanía e #Italia? 🌍 \nSi todo esto te llama la atención\, quizás te apetezca saber más sobre nuestro proyecto europeo «Promote Rural Heritage by Youth Workers». \nBuscamos a 8 participantes residentes en Cantabria para participar en esta movilidad. La actividad tendrá lugar en el Albergue de Corconte. Tanto el transporte como el alojamiento y la manutención (tres comidas al día) están 100% cubiertos. \nEn el siguiente  enlace puedes encontrar el Infokit\, con información práctica sobre la movilidad\, sus requisitos y las principales temáticas a trabajar durante los cinco días. \nSi tienes alguna duda\, puedes ponerte en contacto con europa@ser-joven.org o llamar al 942214897 y trataremos de resolver todas tus dudas 😊
URL:https://bajoeltejo.net/evento/movilidad-de-trabajadores-juveniles-promote-rural-heritage-by-youth-workers/
ATTACH;FMTTYPE=image/png:https://bajoeltejo.net/wp-content/uploads/2022/07/Escape-Blue-View-Instagram-Post-1.png
END:VEVENT
BEGIN:VEVENT
DTSTART;VALUE=DATE:20220930
DTEND;VALUE=DATE:20221010
DTSTAMP:20260421T202922
CREATED:20220915T155043Z
LAST-MODIFIED:20221006T200508Z
UID:4676-1664496000-1665359999@bajoeltejo.net
SUMMARY:Curso Online "Género y cooperación Internacional"
DESCRIPTION:Ingeniería Sin Fronteras Cataluña (Enginyeria Sense Fronteres) ofrece el curso online «Género y cooperación internacional: impulsando transformaciones feministas de las organizaciones\, los proyectos y campañas de incidencia«. \nLUGAR: Online\nFECHA DE INICIO: 10 de octubre de 2022\nIDIOMA: Castellano\nFECHA DE FINALIZACIÓN: 27 de noviembre de 2022\nHORAS LECTIVAS: 30 horas\nTARIFA: 25€ \nEl curso se estructura en 3 Módulos\, cada módulo consta de varios temas de duración variable. \nEl primer módulo\, “La herencia feminista”\, consiste en una introducción a los feminismos. Así pues\, en el módulo 1 se repasan conceptos básicos sobre las teorías de género\, la historia del movimiento feminista -sus olas y críticas-\, el marco normativo internacional pro equidad de género y finalmente\, se ofrece una pincelada sobre la incorporación de las teorías de género en el sector de la Cooperación Internacional. \nEl segundo módulo\, “El EGyBDH\, la comunicación y la economía feminista”\, se centra básicamente en la mejora de los proyectos de las organizaciones desde una perspectiva feminista. Así pues\, el módulo se divide en 3 temas: el diseño de proyectos\, la comunicación de proyectos y por último\, la presupuestación de proyectos. El primer tema\, profundiza en el Enfoque de Género y el Enfoque Basado en Derechos Humanos y ofrece pautas detalladas de cómo incorporar ambos enfoques a los proyectos de cooperación. En el segundo tema\, se trabajan los principios básicos de una comunicación feminista transformadora y se dan pautas para aplicar las narrativas alternativas en las campañas de comunicación feministas. En el último tema\, se presentan brevemente los principios básicos de la economía feminista y de cómo elaborar unos presupuestos feministas. \nEl último módulo\, “Transiciones organizativas feministas”\, se centra en la mejora interna de nuestras organizaciones. Cada uno de los 5 temas aborda un reto clave para poder impulsar transiciones organizativas feministas en una organización. Se abordan los distintos tipos de poderes que se dan en una organización\, los modelos de trabajo\, la gestión de los cuidados y\, por último\, el compromiso político por la diversidad y el antiracismo. \n  \n Más información: https://esf-cat.org/implicat/formacio/curso-enfoque-de-genero-en-proyectos-de-cooperacion-para-el-desarrollo-y-campanas-de-incidencia-politica/
URL:https://bajoeltejo.net/evento/curso-online-genero-y-cooperacion-internacional/
LOCATION:Online
CATEGORIES:Cooperación,Género
ATTACH;FMTTYPE=image/jpeg:https://bajoeltejo.net/wp-content/uploads/2022/09/Cartel-Genero-ESF.jpg
END:VEVENT
BEGIN:VEVENT
DTSTART;TZID=Europe/Madrid:20221001T080000
DTEND;TZID=Europe/Madrid:20221009T170000
DTSTAMP:20260421T202922
CREATED:20220922T174318Z
LAST-MODIFIED:20221006T200851Z
UID:4752-1664611200-1665334800@bajoeltejo.net
SUMMARY:Formación en Agenda 2030 y emprendimiento juvenil
DESCRIPTION:
URL:https://bajoeltejo.net/evento/formacion-en-agenda-2030-y-emprendimiento-juvenil/
CATEGORIES:Educación para el Desarrollo,Sostenibilidad y medio ambiente
ATTACH;FMTTYPE=image/jpeg:https://bajoeltejo.net/wp-content/uploads/2022/09/2030.jpg
END:VEVENT
END:VCALENDAR