BEGIN:VCALENDAR
VERSION:2.0
PRODID:-//Bajo el tejo - ECPv6.15.9//NONSGML v1.0//EN
CALSCALE:GREGORIAN
METHOD:PUBLISH
X-WR-CALNAME:Bajo el tejo
X-ORIGINAL-URL:https://bajoeltejo.net
X-WR-CALDESC:Eventos para Bajo el tejo
REFRESH-INTERVAL;VALUE=DURATION:PT1H
X-Robots-Tag:noindex
X-PUBLISHED-TTL:PT1H
BEGIN:VTIMEZONE
TZID:Europe/Madrid
BEGIN:DAYLIGHT
TZOFFSETFROM:+0100
TZOFFSETTO:+0200
TZNAME:CEST
DTSTART:20210328T010000
END:DAYLIGHT
BEGIN:STANDARD
TZOFFSETFROM:+0200
TZOFFSETTO:+0100
TZNAME:CET
DTSTART:20211031T010000
END:STANDARD
BEGIN:DAYLIGHT
TZOFFSETFROM:+0100
TZOFFSETTO:+0200
TZNAME:CEST
DTSTART:20220327T010000
END:DAYLIGHT
BEGIN:STANDARD
TZOFFSETFROM:+0200
TZOFFSETTO:+0100
TZNAME:CET
DTSTART:20221030T010000
END:STANDARD
BEGIN:DAYLIGHT
TZOFFSETFROM:+0100
TZOFFSETTO:+0200
TZNAME:CEST
DTSTART:20230326T010000
END:DAYLIGHT
BEGIN:STANDARD
TZOFFSETFROM:+0200
TZOFFSETTO:+0100
TZNAME:CET
DTSTART:20231029T010000
END:STANDARD
END:VTIMEZONE
BEGIN:VEVENT
DTSTART;VALUE=DATE:20221114
DTEND;VALUE=DATE:20221124
DTSTAMP:20260421T120814
CREATED:20221114T113035Z
LAST-MODIFIED:20231127T101259Z
UID:5627-1668384000-1669247999@bajoeltejo.net
SUMMARY:Curso Online "Emergencia Climática: Un reto para la Cooperación al Desarrollo"
DESCRIPTION:Se celebrará del 28 al 30 de noviembre\, de 16:00 a 18:30h.
URL:https://bajoeltejo.net/evento/curso-online-emergencia-climatica-un-reto-para-la-cooperacion-al-desarrollo/
LOCATION:Online
CATEGORIES:Cooperación
ATTACH;FMTTYPE=image/jpeg:https://bajoeltejo.net/wp-content/uploads/2022/11/CursoOnlineEmergenciaClimatica.jpg
END:VEVENT
BEGIN:VEVENT
DTSTART;VALUE=DATE:20221115
DTEND;VALUE=DATE:20221124
DTSTAMP:20260421T120814
CREATED:20221115T172730Z
LAST-MODIFIED:20231127T101259Z
UID:5660-1668470400-1669247999@bajoeltejo.net
SUMMARY:Curso virtual "¿Cómo entender y abordar la diversidad cultural? La propuesta intercultural"
DESCRIPTION:Se desarrollará del 28 de noviembre al 14 de diciembre y será impartido por la ONG Movimiento por la Paz (MPDL). \n  \nDirigido a profesionales y estudiantes del ámbito de los Servicios Sociales\, las personas interesadas pueden formalizar su inscripción desde hoy y hasta el 23 de noviembre a través del enlace a este formulario: https://forms.gle/xBz42dPB3f1tL9gTA \nLos participantes\, un máximo de 20 alumnos\, estudiarán contenidos relacionados con la necesidad del diálogo entre culturas y la convivencia pacífica\, las migraciones\, la diversidad cultural\, la gestión de la diversidad cultural o los elementos clave de la interculturalidad \nPara la realización del curso se utilizará la metodología socioafectiva: sentir-pensar-actuar de forma que se trabajará sobre contenidos que puedan servir a las personas participantes en su vida cotidiana\, pero también en su trabajo.
URL:https://bajoeltejo.net/evento/curso-virtual-como-entender-y-abordar-la-diversidad-cultural-la-propuesta-intercultural/
LOCATION:Online
CATEGORIES:Acción Social
ATTACH;FMTTYPE=image/jpeg:https://bajoeltejo.net/wp-content/uploads/2022/11/Oicos.jpg
END:VEVENT
BEGIN:VEVENT
DTSTART;VALUE=DATE:20221118
DTEND;VALUE=DATE:20230101
DTSTAMP:20260421T120814
CREATED:20221118T190316Z
LAST-MODIFIED:20231127T101259Z
UID:5754-1668729600-1672531199@bajoeltejo.net
SUMMARY:Curso online Autoformación: "Grandes desafíos de hoy para un futuro sostenible: agendas para el cambio desde una mirada sistémica"
DESCRIPTION:La pandemia de la COVID-19 ha exacerbado\, de manera mayúscula\, los importantes retos civilizatorios que ya teníamos por delante. Las desigualdades -incluida la de género- la pobreza\, el cambio climático\, la movilidad humana son algunos de ellos. \nEn este curso -organizado por Futuro en Común en colaboración con ECODES y La Coordinadora- se analizarán los desafíos del desarrollo sostenible y su carácter interdependiente y global. También\, se abordarán sus causas estructurales\, el rol de la sociedad civil y las posibles soluciones\, articuladas desde el ámbito local al global\, las posibilidades que puede aportar la Agenda 2030 y la necesidad de consolidar la coherencia de políticas para el desarrollo sostenible para promover un modelo de desarrollo justo\, inclusivo\, sostenible y basado en los derechos humanos. \nEl contenido ha sido elaborado por personas de renombre internacional que nos ayudarán a entender cuáles son los desafíos que enfrentamos y que soluciones se están construyendo en la defensa de los derechos humanos y la democracia: Teresa Pérez González\, Luis González Reyes\, Yayo Herrero\, Julia Sánchez  e Inés M. Pousadela. \nEl antecedente de esta formación es el encuentro online con Yayo Herrero y Julia Sánchez que tuvo lugar en abril de este año. El vídeo de ese webinario está integrado en el curso. \nOBJETIVOS \n» Describir y contextualizar los principales retos civilizatorios a los que nos enfrentamos. \n» Enmarcar la Agenda 2030 como herramienta para la superación de dichos retos. \n» Visualizar las interacciones entre dichos retos y sus causas\, así como entre propuestas de transformación social\, desde un enfoque de coherencia de políticas para el desarrollo sostenible. \nA QUIÉN SE DIRIGE. A personas de las bases sociales de las organizaciones de distintos sectores sociales (acción social\, sindicatos\, cooperación al desarrollo\, feminismos\, infancia\, medioambiente\, migraciones\, paz\, etc.)\, que trabajan en cuestiones relacionadas con el desarrollo sostenible y que quieren mejorar su comprensión desde una mirada multidimensional. \nMODALIDAD. Online.  Autoformación. \nNIVEL. Básico. \nPRECIO. Gratuito. \nACCESIBILIDAD. El espacio de autoformación estará disponible hasta el 31 de diciembre 2022.
URL:https://bajoeltejo.net/evento/curso-online-autoformacion-grandes-desafios-de-hoy-para-un-futuro-sostenible-agendas-para-el-cambio-desde-una-mirada-sistemica/
CATEGORIES:Acción Social,Cooperación,Educación para el Desarrollo,Género,Incidencia política,Pacifismo,Sostenibilidad y medio ambiente
ATTACH;FMTTYPE=image/png:https://bajoeltejo.net/wp-content/uploads/2022/11/CursoCoordi.png
END:VEVENT
BEGIN:VEVENT
DTSTART;TZID=Europe/Madrid:20221118T080000
DTEND;TZID=Europe/Madrid:20221202T170000
DTSTAMP:20260421T120814
CREATED:20221118T184230Z
LAST-MODIFIED:20221118T184230Z
UID:5756-1668758400-1670000400@bajoeltejo.net
SUMMARY:La mujer en el Sur
DESCRIPTION:
URL:https://bajoeltejo.net/evento/la-mujer-en-el-sur/
CATEGORIES:Cooperación,Género
ATTACH;FMTTYPE=image/jpeg:https://bajoeltejo.net/wp-content/uploads/2022/11/ACPP-y-arquia.jpg
END:VEVENT
BEGIN:VEVENT
DTSTART;VALUE=DATE:20221121
DTEND;VALUE=DATE:20221123
DTSTAMP:20260421T120814
CREATED:20221118T173412Z
LAST-MODIFIED:20231127T101259Z
UID:5725-1668988800-1669161599@bajoeltejo.net
SUMMARY:Jornadas de INNOVACIÓN SOCIAL Y EMPLEO: "DESEMPLEO: Una oportunidad para desarrollar tu propósito de vida y reorientar tu vida laboral"
DESCRIPTION:Te invitamos a asistir a las jornadas de INNOVACION SOCIAL Y EMPLEO: DESEMPLEO: Una oportunidad para desarrollar tu propósito de vida y reorientar tu vida laboral\, que el Ayuntamiento de Santander organiza el próximo lunes 21 y martes 22 de noviembre\, en el Marco de las ayudas del FSE previstas en el AP-POEFE (Programa Operativo de Empleo\, Formación y Educación) en el que se enmarcan los programas Raqueros y Taray. \n  \nEsta novedosa jornada está dirigida a técnicos\, formadores\, orientadores\, tutores y demás personal que anhela poner su propósito de vida\, sus dones y talentos al servicio de la co-creación de una sociedad más humana\, saludable y sostenible. También podrán asistir personas desempleadas en su andadura hacia la consecución de objetivos profesionales desde una perspectiva global de mejora personal\, reafirmación de su identidad\, potenciando las propias herramientas y descubriendo otras\, que le permitirán profundizar en el autoconocimiento y desarrollo de habilidades personales para enfrentarse a los retos que\, día a día\, nos presenta la sociedad donde vivimos y convivimos. \n  \nEsto se realiza mediante novedosas actividades y dinámicas (coffe break y comida incluidos)\, dirigidas por siete expertos en salud\, desarrollo personal\, social y medioambiental\, que nos invitarán al cuidado de uno mismo\, la reflexión e indagación interior y la colaboración\, todo ello en entornos naturales\, como es el Espacio Natural en la  Peña de Peñacastillo\, adjuntamos enlace para que lo conozcas AGENCIA DE DESARROLLO DE SANTANDER – Visita espacio natural en la Peña de Peñacastillo (agenciadesarrollosantander.es)\, que ayudan a la relajación y recarga de energía\, creando el ambiente más apropiado para que las personas desarrollen todo su potencial. \n  \nProgramación: \n  \nLunes 21 de noviembre: \nHorario mañana: 9:00 a 13:45 \n9:00 a 9:30:      Bienvenida y presentación. \n9:30 a 11:45     El punto de partida: ¿quién soy yo? (1ª parte) \n11:30 a 11:45   Receso Coffeebreak (incluido) \n11:45 a 13:45   El punto de partida: ¿Quién soy yo? (2ª parte) \n13:45 a 15:00   Pausa para comer y compartir (incluido) \nHorario tarde: 15:00 a 18:15 \n15:00 a 17:00   Salud y alimentación\, el cuidado de sí mismo. \n17:00 a 17:15   Receso Coffeebreak (incluido) \n17:15 a 18:15   Tambores: confirmar el poder a través del sonido ancestral \n  \nMartes 22 de noviembre: \nHorario mañana: 9:00 a 13:45 \n9:00 a 11:00     ¿Qué podemos aprender de la Naturaleza? \n11:00 a 11:15   Receso Coffeebreak (incluido) \n11:15 a 13:15   Trabajo en equipo: comunicación\, confianza\, compromiso\, tipos de grupo y misión compartida \n13:15 a 15:00   Pausa para comer y compartir (incluido) \n15:00 a 16:00   Charla motivacional: ejemplos que inspiran \n16 a 16:15:00    Receso Coffeebreak (incluido) \n16:15 a 17:30   Baño de Gong: confirmar el propósito a través del sonido universal. \n17:30 a 18:00   Cierre de la actividad y asignación de tareas para 3º y 4º encuentro \n  \nMartes 29 de noviembre. \n(3º encuentro) Mentoring y seguimiento de los participantes \nMartes 13 de diciembre. \n(4º encuentro) Mentoring y seguimiento de los participantes \n  \nLugar celebración: \nCentro social Peñacastillo (Crta. Camarreal – Ojaiz 19) \nLas actividades de la tarde: \nTambores: confirmar el poder a través del sonido ancestral. \nBaño de Gong: confirmar el propósito a través del sonido universal. \nSe realizarán en Área estancial de La Peña\, para lo que recomendamos llevar calzado cómodo. \n  \n¡No dejes pasar esta oportunidad! Inscríbete YA!. \nMás información (Marta Lozano 942.203030 mlozano@santander.es) y formulario de inscripción aquí: Jornadas Divulgativas | El Panal (adsantander.es) \n 
URL:https://bajoeltejo.net/evento/jornadas-de-innovacion-social-y-empleo-desempleo-una-oportunidad-para-desarrollar-tu-proposito-de-vida-y-reorientar-tu-vida-laboral/
LOCATION:Centro Social Peñacastillo\, Crta. Camarreal – Ojaiz 19\, Santander\, España
CATEGORIES:Acción Social
ATTACH;FMTTYPE=image/png:https://bajoeltejo.net/wp-content/uploads/2022/11/Humanica.png
END:VEVENT
BEGIN:VEVENT
DTSTART;VALUE=DATE:20221121
DTEND;VALUE=DATE:20221217
DTSTAMP:20260421T120814
CREATED:20221118T175044Z
LAST-MODIFIED:20231127T101259Z
UID:5730-1668988800-1671235199@bajoeltejo.net
SUMMARY:Exposiciones - XVII Lectura Derechos Humanos
DESCRIPTION:TODAS LAS MUJERES LIBRES DE VIOLENCIA. MEDICUSMUNDI \nEsta exposición pretende acercar a la ciudadanía la dimensión global de la violencia contra las mujeres y niñas propiciando una conciencia crítica en torno a las causas y sus formas. La violencia contra las mujeres es un grave atentado contra los derechos humanos. A través de la exposición\, se abordan las diversas formas de violencia contra mujeres y niñas y las respuestas de los movimientos feministas en el mundo para su erradicación.  Se abordan sus múltiples causas\, tipos y manifestaciones\, así como\, aquellas situaciones que no son visibilizadas en las que las mujeres se ven expuestas a múltiples violencias.  Se incide en la importancia que han tenido los movimientos de mujeres y feministas en la visibilización de la violencia como conculcación de los derechos humanos de las mujeres\, creando espacios de diálogo y exigiendo a los gobiernos compromisos para el desarrollo de instrumentos específicos que eliminen la discriminación y la violencia contra las mujeres\, a pesar de los cuales\, la violencia contra las mujeres sigue aumentando.  Por último\, se explica la importancia de la incidencia política de las mujeres y se muestran las experiencias que nos han facilitado algunas organizaciones de mujeres de África y América latina\, gracias a lo cual podemos visibilizar su importante papel en la búsqueda de la justicia\, tanto en los espacios locales como internacionales\, a través de la denuncia\, la investigación y la acción. \nLugar: Hall de la E.T.S Náutica \nEL JARDÍN SECRETO \nLa masculinidad enraizada en valores arcaicos no dejan florecer a una sociedad en equilibrio. No importa aparentar una fortaleza cuando todas\, todes y todos intentamos gestionar una lucha interna. Sentimientos y emociones no son señales de debilidad\, son formas maravillosas de comunicar que estamos vives. En este Jardín Secreto florece una serie de fotografías basada en ideas de género y estereotipos sociales que nos enmarcan desde el nacimiento en roles binarios. \nAutor:  Stambolsky\, artista multidisciplinar\, Reino Unido \nLugar: Hall de la E.T.S Náutica \n  \nPUNTO DE INTERÉS. BUC \nResumen: los Derechos Humanos tienen el poder de construir mejores sociedades\, más justas y preparadas para detener las desigualdades generalizadas\, la discriminación y la exclusión al diferente\, permitiendo que todas las personas más allá de su sexo\, ideología\, raza o religión participen en la toma de decisiones que afectan a sus vidas. La igualdad y la no discriminación son claves para la prevención de conflictos porque cuando las personas o grupos son excluidos o discriminados\, se generan ciclos conflictivos que difícilmente se dan cuando son tratados con respeto y dignidad. Las sociedades que protegen cooperan y promueven los derechos humanos son sociedades más resilientes. En la biblioteca de ETS de Náutica de la Universidad de Cantabria han organizado un foco de interés con libros y películas sobre el tema. \nLugar: pasillo junto a la biblioteca de la E.T.S Náutica \n 
URL:https://bajoeltejo.net/evento/exposiciones-xvii-lectura-derechos-humanos/
LOCATION:ETS Náutica\, Calle Gamazo\, 1\, Santander\, España
CATEGORIES:Género
ATTACH;FMTTYPE=image/png:https://bajoeltejo.net/wp-content/uploads/2022/11/XVII-Lectura-DDHH.png
END:VEVENT
BEGIN:VEVENT
DTSTART;TZID=Europe/Madrid:20221122T000000
DTEND;TZID=Europe/Madrid:20221130T000000
DTSTAMP:20260421T120814
CREATED:20221123T165926Z
LAST-MODIFIED:20221124T055451Z
UID:5863-1669075200-1669766400@bajoeltejo.net
SUMMARY:La historia del 25N a través de sus carteles
DESCRIPTION:
URL:https://bajoeltejo.net/evento/la-historia-del-25n-a-traves-de-sus-carteles/
CATEGORIES:Género,Incidencia política
ATTACH;FMTTYPE=image/jpeg:https://bajoeltejo.net/wp-content/uploads/2022/11/expo-mujer.jpg
END:VEVENT
BEGIN:VEVENT
DTSTART;VALUE=DATE:20221122
DTEND;VALUE=DATE:20221206
DTSTAMP:20260421T120814
CREATED:20221122T164911Z
LAST-MODIFIED:20231127T101259Z
UID:5816-1669075200-1670284799@bajoeltejo.net
SUMMARY:Curso online de Justicia Socioambiental
DESCRIPTION:Resumen\nEl modelo de desarrollo actual está provocando daños irremediables en la naturaleza con consecuencias globales. Las poblaciones que sufren las consecuencias de este modelo son precisamente las que no se benefician de él. Son los colectivos vulnerables los que acaban siendo víctimas del modo de vida insostenible de otras poblaciones. \nLa humanidad está buscando hoy un desarrollo humano y sostenible que alcance a todas las personas –con una atención especial sobre las más empobrecidas– y\, de modo simultáneo\, la protección de una naturaleza amenazada.  Este curso ofrece una aproximación profunda a esta realidad. \n\nObjetivos\n\n\n Aproximar a las personas participantes a la realidad de la crisis socioambiental en la que está nuestro mundo.\nConocer dinámicas de insostenibilidad y\, frente a ellas\, alternativas social y medioambientalmente responsables.\nAnimar a la transformación personal y social con propuestas concretas de estilos de vida sostenibles.\n\nContenidos\n\nMódulo 1:\n1.1 Crisis ambiental\n1.2 Crisis social y económica\nMódulo 2:\n2.1 Falsas soluciones\n2.2 Escenarios futuros\nMódulo 3: \n3.1 Sociedades con justicia socioambiental\n3.2 Economías feministas\, ecológicas y solidarias\nMódulo 4: \n4.1 Estrategias de transición económica\n4.2 Estrategias para movimientos sociales\n\nDuración\nSe necesitarán entre 15 y 20h para completar el curso. Si es la primera vez que te aproximas a este tema\, cuenta con que se utiliza vocabulario específico que irás entendiendo y aprehendiendo según avances. \nMetodología\nContarás con apuntes\, recursos audiovisuales\, foros de construcción colectiva\, tareas y recursos de autoevaluación. Las personas tutoras te facilitarán este camino para que puedas avanzar\, profundizar y finalizar esta formación de manera satisfactoria. \nCoste\nEl curso es completamente gratuito. \nFechas\nDel 12 de diciembre al 31 de enero \n\nPlazo y modo de inscripción\nHasta el 5 de diciembre\, accediendo a la plataforma moodle.\n 
URL:https://bajoeltejo.net/evento/curso-online-de-justicia-socioambiental/
LOCATION:Online
CATEGORIES:Cooperación,Género,Incidencia política,Sostenibilidad y medio ambiente
ATTACH;FMTTYPE=image/png:https://bajoeltejo.net/wp-content/uploads/2022/11/CursoEntreculturas.png
END:VEVENT
END:VCALENDAR