BEGIN:VCALENDAR
VERSION:2.0
PRODID:-//Bajo el tejo - ECPv6.15.9//NONSGML v1.0//EN
CALSCALE:GREGORIAN
METHOD:PUBLISH
X-ORIGINAL-URL:https://bajoeltejo.net
X-WR-CALDESC:Eventos para Bajo el tejo
REFRESH-INTERVAL;VALUE=DURATION:PT1H
X-Robots-Tag:noindex
X-PUBLISHED-TTL:PT1H
BEGIN:VTIMEZONE
TZID:Europe/Madrid
BEGIN:DAYLIGHT
TZOFFSETFROM:+0100
TZOFFSETTO:+0200
TZNAME:CEST
DTSTART:20220327T010000
END:DAYLIGHT
BEGIN:STANDARD
TZOFFSETFROM:+0200
TZOFFSETTO:+0100
TZNAME:CET
DTSTART:20221030T010000
END:STANDARD
BEGIN:DAYLIGHT
TZOFFSETFROM:+0100
TZOFFSETTO:+0200
TZNAME:CEST
DTSTART:20230326T010000
END:DAYLIGHT
BEGIN:STANDARD
TZOFFSETFROM:+0200
TZOFFSETTO:+0100
TZNAME:CET
DTSTART:20231029T010000
END:STANDARD
BEGIN:DAYLIGHT
TZOFFSETFROM:+0100
TZOFFSETTO:+0200
TZNAME:CEST
DTSTART:20240331T010000
END:DAYLIGHT
BEGIN:STANDARD
TZOFFSETFROM:+0200
TZOFFSETTO:+0100
TZNAME:CET
DTSTART:20241027T010000
END:STANDARD
END:VTIMEZONE
BEGIN:VEVENT
DTSTART;VALUE=DATE:20230506
DTEND;VALUE=DATE:20230928
DTSTAMP:20260419T183653
CREATED:20230506T110100Z
LAST-MODIFIED:20231127T101216Z
UID:9593-1683331200-1695859199@bajoeltejo.net
SUMMARY:Diploma de Experto en Prevención y Gestión de Crisis Internacionales
DESCRIPTION:El Diploma de Experto en Prevención y Gestión de Crisis Internacionales es un programa de postgrado que organiza el Instituto Universitario de Estudios Internacionales y Europeos «Francisco de Vitoria» de la Universidad Carlos III de Madrid\, con la colaboración y asesoramiento del Movimiento por la Paz el Desarme y la Libertad – MDPL y de la Escuela de Guerra del Ejército del Ministerio de Defensa. El objetivo fundamental del programa del Título es introducir al alumno en el complejo ámbito de la prevención y gestión de las crisis y los conflictos internacionales\, así como dotarle de los conocimientos necesarios\, tanto desde un punto de vista teórico como práctico\, para quienes pretenden enfocar su desarrollo profesional hacia el ámbito internacional\, cada vez más presente en el mundo en que vivimos. \nPara ello se parte de una concepción interdisciplinar\, donde se trata de conjugar el análisis teórico\, filosófico-jurídico y estrictamente jurídico-internacional\, con una visión más apegada a la práctica\, exponiendo los principales problemas en el ámbito de la paz y la seguridad internacionales tanto desde la perspectiva de las relaciones internacionales\, con el análisis de conflictos determinados\, como de la actuación sobre el terreno del Ejército español\, los Cuerpos y Fuerzas de Seguridad del Estado y las ONGs. Por ello la colaboración cívico militar (CIMIC) será objeto de especial atención. \n  \nDestinatarios\nEl Diploma de Experto se dirige a personas interesadas en la construcción y el mantenimiento de la paz\, la seguridad internacionales\, la prevención de conflictos y la gestión de crisis internacional\, incluidas crisis sanitarias y las producidas por catástrofes naturales. Cuestiones\, todas ellas\, de gran relevancia en la actualidad para amplios sectores profesionales: licenciados en Derecho\, Periodismo\, Ciencias Políticas\, Economía y A.D.E.\, profesionales de la cooperación internacional\, miembros de las Fuerzas Armadas o de los Cuerpos de Seguridad del Estado. \nAsimismo\, este postgrado curso es muy recomendable para aquellas personas que tengan interés en trabajar en el ámbito de la acción exterior española (en especial\, en el Cuerpo Diplomático) o en alguna organizaciones internacionales.. \nEl periodo de selección está abierto hasta el 30 de septiembre 2023.
URL:https://bajoeltejo.net/evento/diploma-de-experto-en-prevencion-y-gestion-de-crisis-internacionales/
LOCATION:Online
CATEGORIES:Cooperación,Incidencia política
ATTACH;FMTTYPE=image/jpeg:https://bajoeltejo.net/wp-content/uploads/2023/05/Titulo-Experto-Prevencion-Crisis-Internacionales.jpg
END:VEVENT
BEGIN:VEVENT
DTSTART;VALUE=DATE:20230517
DTEND;VALUE=DATE:20230601
DTSTAMP:20260419T183653
CREATED:20230517T050914Z
LAST-MODIFIED:20231127T101202Z
UID:10199-1684281600-1685577599@bajoeltejo.net
SUMMARY:IX Premio Ingeniería Solidaria
DESCRIPTION:IX edición del Premio Ingeniería Solidaria 🏆👏\nSi realizaste tu 📕 TFG o 📔 TFM durante el año 2022 ¡no dudes en participar!.\nCon este premio nuestro objetivo es difundir y potenciar la importancia que tiene la Ingeniería en todas sus vertientes: técnica\, económica\, científica y social 🔧💲🔬👥.\nLa Ingeniería es una herramienta fundamental para conseguir la transformación social en cualquier parte del mundo con un papel relevante en la consecución\, puesta en práctica y reivindicación de los Derechos Humanos✊.\nToda la información y las bases están disponible en la web: https://premioingenieria.isf.es\n#DDHH\n#PremioIngenieriaSolidaria\n\n\n\nPodrá participar cualquier estudiante\, de cualquier nacionalidad\, perteneciente a una escuela de ingeniería o arquitectura de una universidad española\, así como cualquier estudiante de nacionalidad española estudiando en universidades extranjeras. \nCada estudiante podrá presentar un único trabajo individual\, en cualquiera de las lenguas oficiales del Estado español o en inglés\, acompañando siempre un amplio resumen en castellano si no es ésta la lengua en que se ha redactado. \n\nLos trabajos deberán haber sido presentados en la universidad entre el 1 de enero y el 31 de diciembre de 2022. \nEl plazo máximo de presentación será el día 31 de mayo de 2023 a las 23:59h.
URL:https://bajoeltejo.net/evento/ix-premio-ingenieria-solidaria/
LOCATION:Online
CATEGORIES:Cooperación,Educación para el Desarrollo,Incidencia política,Pacifismo,Sostenibilidad y medio ambiente
ATTACH;FMTTYPE=image/jpeg:https://bajoeltejo.net/wp-content/uploads/2023/05/IXPremioIngSolidaria.jpg
END:VEVENT
END:VCALENDAR