BEGIN:VCALENDAR
VERSION:2.0
PRODID:-//Bajo el tejo - ECPv6.15.9//NONSGML v1.0//EN
CALSCALE:GREGORIAN
METHOD:PUBLISH
X-WR-CALNAME:Bajo el tejo
X-ORIGINAL-URL:https://bajoeltejo.net
X-WR-CALDESC:Eventos para Bajo el tejo
REFRESH-INTERVAL;VALUE=DURATION:PT1H
X-Robots-Tag:noindex
X-PUBLISHED-TTL:PT1H
BEGIN:VTIMEZONE
TZID:Europe/Madrid
BEGIN:DAYLIGHT
TZOFFSETFROM:+0100
TZOFFSETTO:+0200
TZNAME:CEST
DTSTART:20230326T010000
END:DAYLIGHT
BEGIN:STANDARD
TZOFFSETFROM:+0200
TZOFFSETTO:+0100
TZNAME:CET
DTSTART:20231029T010000
END:STANDARD
BEGIN:DAYLIGHT
TZOFFSETFROM:+0100
TZOFFSETTO:+0200
TZNAME:CEST
DTSTART:20240331T010000
END:DAYLIGHT
BEGIN:STANDARD
TZOFFSETFROM:+0200
TZOFFSETTO:+0100
TZNAME:CET
DTSTART:20241027T010000
END:STANDARD
BEGIN:DAYLIGHT
TZOFFSETFROM:+0100
TZOFFSETTO:+0200
TZNAME:CEST
DTSTART:20250330T010000
END:DAYLIGHT
BEGIN:STANDARD
TZOFFSETFROM:+0200
TZOFFSETTO:+0100
TZNAME:CET
DTSTART:20251026T010000
END:STANDARD
END:VTIMEZONE
BEGIN:VEVENT
DTSTART;VALUE=DATE:20241001
DTEND;VALUE=DATE:20241031
DTSTAMP:20260419T143150
CREATED:20240810T091242Z
LAST-MODIFIED:20241113T124313Z
UID:16799-1727740800-1730332799@bajoeltejo.net
SUMMARY:Formación online: Educación para la ciudadanía global\, de MPDL
DESCRIPTION:Formación online gratuita de 8 horas.  \n¿Te interesa? Acceso con automatrícula desde #moodle: http://moodle.mpdl.org
URL:https://bajoeltejo.net/evento/formacion-online-educacion-para-la-ciudadania-global-de-mpdl/
LOCATION:Online
CATEGORIES:Educación para el Desarrollo
ATTACH;FMTTYPE=image/jpeg:https://bajoeltejo.net/wp-content/uploads/2024/08/MPDL_FormacionOnline.jpg
END:VEVENT
BEGIN:VEVENT
DTSTART;TZID=Europe/Madrid:20241008T160000
DTEND;TZID=Europe/Madrid:20241010T210000
DTSTAMP:20260419T143150
CREATED:20241001T140643Z
LAST-MODIFIED:20241001T144731Z
UID:17141-1728403200-1728594000@bajoeltejo.net
SUMMARY:Exposición fotográfica “Gente que vibra” del fotógrafo de cine Quim Vives.
DESCRIPTION:InteRed Cantabria presenta la exposición fotográfica “Gente que vibra” del fotógrafo de cine Quim Vives\, que ha viajado recientemente a Mauritania con InteRed y ha plasmado la unión de estos valores en los proyectos que allí se desarrollan.\n\n\n¿Alguna vez te has preguntado qué salvó a los sobrevivientes del avión 571 de la Fuerza Aérea Uruguaya que se estrelló en la cordillera de los Andes en 1972? Sin duda diversas circunstancias\, pero las más importantes: la encarnación de valores como el respeto\, el trabajo en equipo\, los cuidados\, la generosidad y la solidaridad. Se creó una “Sociedad de la nieve” que comparte con InteRed numerosos valores.\n\n\n\n\n\n\n#InteRed #lasociedaddelanieve #educacióntransformadora #LosValoresQueNosUnen
URL:https://bajoeltejo.net/evento/exposicion-fotografica-gente-que-vibra-del-fotografo-de-cine-quim-vives/
LOCATION:«Espacio en blanco» C/ Cta. del Hospital\, 5 Santander
CATEGORIES:Cooperación
ATTACH;FMTTYPE=image/jpeg:https://bajoeltejo.net/wp-content/uploads/2024/10/cartel-exposicion-fotografica.jpg
END:VEVENT
BEGIN:VEVENT
DTSTART;TZID=Europe/Madrid:20241010T093000
DTEND;TZID=Europe/Madrid:20241010T140000
DTSTAMP:20260419T143150
CREATED:20240916T112625Z
LAST-MODIFIED:20240916T112625Z
UID:17067-1728552600-1728568800@bajoeltejo.net
SUMMARY:Jornada  “La eliminación del estigma en las víctimas de violencia de género” de la Asociación Salud y Familia con la Asociación Consuelo Berges
DESCRIPTION:Desde la Asociación Salud y Familia se viene desarrollando el Proyecto Garantía Mujer en distintas ciudades de nuestro país. Con su desarrollo se pretende contribuir a la sensibilización pública sobre la Violencia de Género\, para lo cual queremos compartir en formación y conocimiento entre Organizaciones y Servicios Públicos Institucionales\, a fin de crear redes y alianzas que hagan duradera las acciones preventivas de dicha violencia. \n  \nEn colaboración con la Asociación Consuelo Berges\, llevaremos a cabo el desarrollo del mencionado Proyecto con la jornada “La eliminación del estigma en las víctimas de violencia de género”. Esta tendrá lugar el jueves 10 de octubre de 2024\, en la Biblioteca Central de Santander (C/ Ruiz de Alda\, 19). \n 
URL:https://bajoeltejo.net/evento/jornada-la-eliminacion-del-estigma-en-las-victimas-de-violencia-de-genero-de-la-asociacion-salud-y-familia-con-la-asociacion-consuelo-berges/
LOCATION:Biblioteca central de Cantabria
CATEGORIES:Género
ATTACH;FMTTYPE=image/jpeg:https://bajoeltejo.net/wp-content/uploads/2024/09/programaGarantiaMportadaSANTANDER-24-copia_0.jpg
END:VEVENT
END:VCALENDAR