BEGIN:VCALENDAR
VERSION:2.0
PRODID:-//Bajo el tejo - ECPv6.15.9//NONSGML v1.0//EN
CALSCALE:GREGORIAN
METHOD:PUBLISH
X-WR-CALNAME:Bajo el tejo
X-ORIGINAL-URL:https://bajoeltejo.net
X-WR-CALDESC:Eventos para Bajo el tejo
REFRESH-INTERVAL;VALUE=DURATION:PT1H
X-Robots-Tag:noindex
X-PUBLISHED-TTL:PT1H
BEGIN:VTIMEZONE
TZID:Europe/Madrid
BEGIN:DAYLIGHT
TZOFFSETFROM:+0100
TZOFFSETTO:+0200
TZNAME:CEST
DTSTART:20250330T010000
END:DAYLIGHT
BEGIN:STANDARD
TZOFFSETFROM:+0200
TZOFFSETTO:+0100
TZNAME:CET
DTSTART:20251026T010000
END:STANDARD
BEGIN:DAYLIGHT
TZOFFSETFROM:+0100
TZOFFSETTO:+0200
TZNAME:CEST
DTSTART:20260329T010000
END:DAYLIGHT
BEGIN:STANDARD
TZOFFSETFROM:+0200
TZOFFSETTO:+0100
TZNAME:CET
DTSTART:20261025T010000
END:STANDARD
BEGIN:DAYLIGHT
TZOFFSETFROM:+0100
TZOFFSETTO:+0200
TZNAME:CEST
DTSTART:20270328T010000
END:DAYLIGHT
BEGIN:STANDARD
TZOFFSETFROM:+0200
TZOFFSETTO:+0100
TZNAME:CET
DTSTART:20271031T010000
END:STANDARD
END:VTIMEZONE
BEGIN:VEVENT
DTSTART;VALUE=DATE:20260420
DTEND;VALUE=DATE:20260616
DTSTAMP:20260421T204122
CREATED:20260323T061842Z
LAST-MODIFIED:20260323T061842Z
UID:25724-1776643200-1781567999@bajoeltejo.net
SUMMARY:Curso online: "Derecho Humano al Agua y al Saneamiento"
DESCRIPTION:💧 Curso online: Derecho Humano al Agua y al Saneamiento \nA pesar de los avances\, miles de millones de personas en el mundo todavía no tienen acceso seguro al agua potable y al saneamiento. \nDesde Ingeniería Sin Fronteras abrimos inscripciones a este curso online donde analizaremos la crisis global del agua\, los modelos de gestión y las alternativas para garantizar este derecho. \n📅 20 de abril – 15 de junio\n⏱️ 35 horas | 💻 Online\n💶 50€ (25€ tarifa reducida) \n👉 Inscripciones abiertas: https://ja.cat/Curso-Agua
URL:https://bajoeltejo.net/evento/curso-online-derecho-humano-al-agua-y-al-saneamiento/
LOCATION:Online
CATEGORIES:Acción Social,Cooperación,Educación para el Desarrollo,Incidencia política,Pacifismo
ATTACH;FMTTYPE=image/png:https://bajoeltejo.net/wp-content/uploads/2026/03/1llW9eMCzF-UjuixUVzsp2KgDkBkMRwA7s2200-H2WiJJ.png
END:VEVENT
BEGIN:VEVENT
DTSTART;TZID=Europe/Madrid:20260430T000000
DTEND;TZID=Europe/Madrid:20260512T235900
DTSTAMP:20260421T204122
CREATED:20260421T053402Z
LAST-MODIFIED:20260421T053402Z
UID:27145-1777507200-1778630340@bajoeltejo.net
SUMMARY:"Cómo Cambiamos la Narrativa"\, Encuentro de periodistas y comunicadores
DESCRIPTION:📰 Un espacio dirigido a periodistas y profesionales de la comunicación para reflexionar sobre el papel del relato en la construcción social y el impacto de las narrativas en la cohesión social y los Derechos Humanos. \n🤝 Organizan ACPP Cantabria y El Faradio\, con la participación de Alharaca (El Salvador). \n📅 Cuándo:\n💻 Online: 30 de abril y 7 de mayo\, de 18:30 a 20:30 h\n📍 Presencial: 12 de mayo\, de 16:30 a 20:30 h\n🏛️ Lugar: Sede de la Coordinadora Cántabra de ONGD \n💡 Un espacio de aprendizaje y co-creación para mejorar la cobertura mediática de temas sensibles y construir alternativas narrativas frente al discurso de odio. \n✏️ Inscripción previa en el enlace: https://drive.google.com/file/d/1zjpChgCcRyTnr6CO3Q0yFV79ngy-SSh_/view?usp=sharing \n#CómoCambiamosLaNarrativa #Periodismo #Comunicación #DerechosHumanos #NuevasNarrativas #Cantabria #LibertadDePrensa #JusticiaSocial
URL:https://bajoeltejo.net/evento/como-cambiamos-la-narrativa-encuentro-de-periodistas-y-comunicadores/
LOCATION:Sede de la Coordinadora Cántabra de ONGD\, Calle San Celedonio nº 26\, 2º\, Santander\, España
CATEGORIES:Educación para el Desarrollo,Género,Incidencia política,Pacifismo
ATTACH;FMTTYPE=image/jpeg:https://bajoeltejo.net/wp-content/uploads/2026/04/1KYONMzOoxAAHzJGVmzK5JiQe3Hdpmuwfs2200-w9tfif.jpg
END:VEVENT
END:VCALENDAR