BEGIN:VCALENDAR
VERSION:2.0
PRODID:-//Bajo el tejo - ECPv6.15.9//NONSGML v1.0//EN
CALSCALE:GREGORIAN
METHOD:PUBLISH
X-WR-CALNAME:Bajo el tejo
X-ORIGINAL-URL:https://bajoeltejo.net
X-WR-CALDESC:Eventos para Bajo el tejo
REFRESH-INTERVAL;VALUE=DURATION:PT1H
X-Robots-Tag:noindex
X-PUBLISHED-TTL:PT1H
BEGIN:VTIMEZONE
TZID:Europe/Madrid
BEGIN:DAYLIGHT
TZOFFSETFROM:+0100
TZOFFSETTO:+0200
TZNAME:CEST
DTSTART:20250330T010000
END:DAYLIGHT
BEGIN:STANDARD
TZOFFSETFROM:+0200
TZOFFSETTO:+0100
TZNAME:CET
DTSTART:20251026T010000
END:STANDARD
BEGIN:DAYLIGHT
TZOFFSETFROM:+0100
TZOFFSETTO:+0200
TZNAME:CEST
DTSTART:20260329T010000
END:DAYLIGHT
BEGIN:STANDARD
TZOFFSETFROM:+0200
TZOFFSETTO:+0100
TZNAME:CET
DTSTART:20261025T010000
END:STANDARD
BEGIN:DAYLIGHT
TZOFFSETFROM:+0100
TZOFFSETTO:+0200
TZNAME:CEST
DTSTART:20270328T010000
END:DAYLIGHT
BEGIN:STANDARD
TZOFFSETFROM:+0200
TZOFFSETTO:+0100
TZNAME:CET
DTSTART:20271031T010000
END:STANDARD
END:VTIMEZONE
BEGIN:VEVENT
DTSTART;TZID=Europe/Madrid:20260311T190000
DTEND;TZID=Europe/Madrid:20260311T190000
DTSTAMP:20260422T082233
CREATED:20260301T193719Z
LAST-MODIFIED:20260301T193719Z
UID:25024-1773255600-1773255600@bajoeltejo.net
SUMMARY:"Mientras los conflictos bélicos destruyen\, las manos enfermeras cuidan"\, por María Luz Fernández
DESCRIPTION:«Mientras los conflictos bélicos destruyen\, las manos enfermeras cuidan«\, María Luz Fernández Fernández\, Prof. de la Facultad de Enfermería de la Universidad de Cantabria. \nLa historia de la humanidad está jalonada por numerosos conflictos bélicos cuyo principal saldo es la ingente cantidad de pérdidas humanas. En este contexto en el que se han destruido países y fronteras se van configurando distintas realidades que han modelado el mundo hasta hoy. Un escenario delirante\, la presencia y el cuidado enfermero ha tenido un papel crucial como referencia de la esencia de lo que nos posiciona como personas\, como seres racionales con capacidad de razonar y sentir. \n“Desavenencia y rompimiento de la paz entre dos o más potencias” y “Lucha armada entre dos o más naciones o entre bandos de una misma nación” son las dos primeras acepciones de la RAE para guerra. Estas definiciones describen en pocas palabras conceptos con los que convivimos en nuestra vida cotidiana\, y que configuran nuestro sentir como ciudadanía ante los conflictos basados en la dominación y la violación de derechos humanos.\nEstos conflictos demandan la comprensión de nuestro lugar y la capacidad para conectar con la humanidad de la que formamos parte. En estas jornadas escucharemos a personas que darán su testimonio sobre estas circunstancias y a personas expertas analizar desde diferentes ángulos la guerra\, la dominación\, las heridas y la reparación\, asumiendo el objetivo de contribuir desde la UC a desarrollar la capacidad del saber ser\, estar y convivir\, objetivos máximos de la educación\, y aprendizajes que nos conciernen a toda la ciudadanía. Esta aproximación la haremos\, además\, complementando las ponencias y coloquios con proyecciones de películas relacionadas con los temas tratados.
URL:https://bajoeltejo.net/evento/mientras-los-conflictos-belicos-destruyen-las-manos-enfermeras-cuidan-por-maria-luz-fernandez/
LOCATION:Paraninfo de la Universidad de Cantabria
CATEGORIES:Acción Social,Cooperación,Pacifismo,Sostenibilidad y medio ambiente
ATTACH;FMTTYPE=image/jpeg:https://bajoeltejo.net/wp-content/uploads/2026/03/guerra_1_5-nHZhoa.jpg
END:VEVENT
END:VCALENDAR