BEGIN:VCALENDAR
VERSION:2.0
PRODID:-//Bajo el tejo - ECPv6.15.9//NONSGML v1.0//EN
CALSCALE:GREGORIAN
METHOD:PUBLISH
X-WR-CALNAME:Bajo el tejo
X-ORIGINAL-URL:https://bajoeltejo.net
X-WR-CALDESC:Eventos para Bajo el tejo
REFRESH-INTERVAL;VALUE=DURATION:PT1H
X-Robots-Tag:noindex
X-PUBLISHED-TTL:PT1H
BEGIN:VTIMEZONE
TZID:Europe/Madrid
BEGIN:DAYLIGHT
TZOFFSETFROM:+0100
TZOFFSETTO:+0200
TZNAME:CEST
DTSTART:20240331T010000
END:DAYLIGHT
BEGIN:STANDARD
TZOFFSETFROM:+0200
TZOFFSETTO:+0100
TZNAME:CET
DTSTART:20241027T010000
END:STANDARD
BEGIN:DAYLIGHT
TZOFFSETFROM:+0100
TZOFFSETTO:+0200
TZNAME:CEST
DTSTART:20250330T010000
END:DAYLIGHT
BEGIN:STANDARD
TZOFFSETFROM:+0200
TZOFFSETTO:+0100
TZNAME:CET
DTSTART:20251026T010000
END:STANDARD
BEGIN:DAYLIGHT
TZOFFSETFROM:+0100
TZOFFSETTO:+0200
TZNAME:CEST
DTSTART:20260329T010000
END:DAYLIGHT
BEGIN:STANDARD
TZOFFSETFROM:+0200
TZOFFSETTO:+0100
TZNAME:CET
DTSTART:20261025T010000
END:STANDARD
END:VTIMEZONE
BEGIN:VEVENT
DTSTART;VALUE=DATE:20251010
DTEND;VALUE=DATE:20251019
DTSTAMP:20260422T061548
CREATED:20251007T143131Z
LAST-MODIFIED:20251007T143131Z
UID:19574-1760054400-1760831999@bajoeltejo.net
SUMMARY:Semana contra la pobreza
DESCRIPTION:Del 10 al 18 de octubre de 2025\, desde la Coordinadora Cántabra de ONGD y EAPN Cantabria\, celebramos una nueva edición de la Semana contra la Pobreza. \nAquí presentamos el programa de actividades que hemos preparado con la colaboración de distintas organizaciones\, entre ellas UNRWA Cantabria y Acción Sin Fronteras\, con el propósito de visibilizar la pobreza y la exclusión social y promover una sociedad más justa\, solidaria e inclusiva. \n📌 Programación destacada: \n10 de octubre · Teatro El sueño es vida de Thimbo Samb. Filmoteca de Cantabria · 20:00 h.\n13–17 de octubre · Exposición Fin de la pobreza (Acción Sin Fronteras). Hall Interfacultativo · Universidad de Cantabria.\n15 de octubre · Actividad de calle Ponte en sus zapatos (realidad virtual sobre sinhogarismo). Plaza Porticada · 11:00–13:00 h.\n16 de octubre · Exposición Bordando derechos: arte y resistencia palestina (UNRWA Cantabria). Centro Cívico Juan de Santander · 19:00 h.\n17 de octubre · Presentación del Informe AROPE. CASYC · 10:00 h.\n18 de octubre · Presentación del libro Crónicas a la intemperie de la periodista Lola Hierro. Librería Gil · 19:00 h. \n  \nTodas las actividades son gratuitas y abiertas al público hasta completar aforo. \n 
URL:https://bajoeltejo.net/evento/semana-contra-la-pobreza/
LOCATION:Santander\, Spain
CATEGORIES:Acción Social,Cooperación
END:VEVENT
BEGIN:VEVENT
DTSTART;TZID=Europe/Madrid:20251015T110000
DTEND;TZID=Europe/Madrid:20251015T130000
DTSTAMP:20260422T061548
CREATED:20251013T100657Z
LAST-MODIFIED:20251013T100734Z
UID:19631-1760526000-1760533200@bajoeltejo.net
SUMMARY:“Ponte en sus Zapatos” – Semana Contra la Pobreza 2025
DESCRIPTION:Este martes 15 de octubre\, te invitamos a vivir una experiencia diferente con EAPN Cantabria: la acción de calle “Ponte en sus Zapatos”\, dentro de la Semana Contra la Pobreza 2025. \n🕙 De 11:00 a 13:00 h\n📍 Plaza Porticada\, Santander \nA través de una experiencia de realidad virtual\, podrás ponerte —literalmente— en el lugar de las personas que viven en situación de sinhogarismo\, conocer sus historias y reflexionar sobre cómo podemos construir una sociedad más justa e inclusiva. \nUna actividad abierta a toda la ciudadanía\, organizada por el Grupo de Incidencia Política y Social (GTIPS) de EAPN Cantabria.
URL:https://bajoeltejo.net/evento/ponte-en-sus-zapatos-semana-contra-la-pobreza-2025/
LOCATION:Plaza Porticada\, Santander\, Spain
CATEGORIES:Acción Social
ATTACH;FMTTYPE=image/jpeg:https://bajoeltejo.net/wp-content/uploads/2025/10/PonteEnSusZapatos.jpg
END:VEVENT
END:VCALENDAR